BEGIN:VCALENDAR
VERSION:2.0
PRODID:-//KÜHLHAUS GÖRLITZ - ECPv6.15.19//NONSGML v1.0//EN
CALSCALE:GREGORIAN
METHOD:PUBLISH
X-ORIGINAL-URL:https://kuehlhaus-goerlitz.de/?lang=en
X-WR-CALDESC:Events for KÜHLHAUS GÖRLITZ
REFRESH-INTERVAL;VALUE=DURATION:PT1H
X-Robots-Tag:noindex
X-PUBLISHED-TTL:PT1H
BEGIN:VTIMEZONE
TZID:UTC
BEGIN:STANDARD
TZOFFSETFROM:+0000
TZOFFSETTO:+0000
TZNAME:UTC
DTSTART:20200101T000000
END:STANDARD
END:VTIMEZONE
BEGIN:VEVENT
DTSTART;VALUE=DATE:20210910
DTEND;VALUE=DATE:20210913
DTSTAMP:20260426T035353
CREATED:20200710T143224Z
LAST-MODIFIED:20210602T115553Z
UID:19441-1631232000-1631491199@kuehlhaus-goerlitz.de
SUMMARY:Überland Festival
DESCRIPTION:Ein Fest für alle Menschen\, die das Landleben neugestalten –\nzum Feiern\, Austauschen\, Werken\, Ausprobieren und Vernetzen. \nDie Neulandgewinner sind nur ein Teil der Menschen\, die jeden Tag neue\, kluge und kreative Lösungen für ihre Dörfer\, Regionen und Kleinstädte finden. Egal aus welcher Region Deutschlands und ob schon selbst aktiv oder noch am Suchen nach dem richtigen Anknüpfungspunkt – auf dem ÜBERLAND Festival 2021 wird es geballtes Wissen\, neue Ideen\, inspirierende Menschen und vor allem das gemeinsame Nachdenken über gesellschaftspolitische Fragestellungen im Großen und Kleinen geben. Und das alles in einer ganz besonderen Atmosphäre an einem Spätsommerwochenende im Kühlhaus Görlitz… \nMehr zum Festival und Programm findet ihr hier:\nWebsite Überland-Festival\n \n  \n 
URL:https://kuehlhaus-goerlitz.de/event/ueberland-festival/?lang=en
LOCATION:Kühlhaus Görlitz\, Am Bahnhof Weinhübel 2\, Görlitz\, 02827\, Germany
ATTACH;FMTTYPE=image/jpeg:https://kuehlhaus-goerlitz.de/wp-content/uploads/2020/07/ÜBERLAND_hp2.jpg
ORGANIZER;CN="Th%C3%BCnen-Institut f%C3%BCr Regionalentwicklung e.V":MAILTO:veranstaltungen@neulandgewinnen.de
END:VEVENT
END:VCALENDAR