BEGIN:VCALENDAR
VERSION:2.0
PRODID:-//KÜHLHAUS GÖRLITZ - ECPv6.15.19//NONSGML v1.0//EN
CALSCALE:GREGORIAN
METHOD:PUBLISH
X-ORIGINAL-URL:https://kuehlhaus-goerlitz.de/?lang=en
X-WR-CALDESC:Events for KÜHLHAUS GÖRLITZ
REFRESH-INTERVAL;VALUE=DURATION:PT1H
X-Robots-Tag:noindex
X-PUBLISHED-TTL:PT1H
BEGIN:VTIMEZONE
TZID:UTC
BEGIN:STANDARD
TZOFFSETFROM:+0000
TZOFFSETTO:+0000
TZNAME:UTC
DTSTART:20200101T000000
END:STANDARD
END:VTIMEZONE
BEGIN:VEVENT
DTSTART;TZID=UTC:20210919T160000
DTEND;TZID=UTC:20211003T170000
DTSTAMP:20260426T035253
CREATED:20210407T121713Z
LAST-MODIFIED:20210818T142307Z
UID:20014-1632067200-1633280400@kuehlhaus-goerlitz.de
SUMMARY:Zettel+Stift Residenz
DESCRIPTION:Künstlerische Residenz “Nahansicht Görlitzer\n19. September – 3. Oktober 2021 \nDer Kühlhaus Görlitz e.V. veranstaltet vom 19. September bis 3. Oktober 2021 die Künstlerresidenz “Nahansicht Görlitz”. Sieben Illustratoren aus Polen und Deutschland wurden eingeladen\, an der zweiwöchigen Veranstaltung teilzunehmen. Die Residenz ist Teil der Feierlichkeiten zum 950-jährigen Jubiläum der Stadt. Im Rahmen des Projektes entsteht ein Reisetagebuch mit Stadtimpressionen. \nDer Kühlhaus Görlitz e.V. veranstaltet seit 2016 ein Skizzenfestival. Jedes Jahr lädt der Verein eine Gruppe von Illustratoren ein\, die ihre Eindrücke von ihrem Aufenthalt – Straßen\, Häuser\, Bewohner und Atmosphäre – in schnellen Skizzen auf Papier bringen. Weitere Informationen über den Verein und das Festival finden Sie unter: www.kuehlhaus-goerlitz.de. \n—————————————————————————————— \nRezydencja artystyczna “Zbliżenia Görlitz”\n19. września – 3. października 2021 \n\nStowarzyszenie pożytku publicznego Kühlhaus Görlitz e.V. organizuje od 19 września do 3 października 2021 rezydencję artystyczną “Zbliżenia Görlitz”. Do udziału w dwutygodniowym wydarzeniu zostało zaproszonych siedmiu ilustratorów z Polski i Niemiec. Rezydencja stanowi część obchodów 950-lecia jubileuszu miasta. W ramach projektu powstanie pamiętnik podróży z impresjami miejskimi. \n\nKühlhaus Görlitz e.V. już od 2016 roku organizuje festiwal ilustratorów. Co roku stowarzyszenie gości grupę rysowników\, którzy za pomocą szybkich szkiców zatrzymują na papierze swoje wrażenie z pobytu – ulice\, domy\, mieszkańców i atmosferę. Więcej o stowarzyszeniu i o festiwalu można znaleźć na stronie: www.kuehlhaus-goerlitz.de.\n \n  \n \n 
URL:https://kuehlhaus-goerlitz.de/event/zettelstift-residenz/?lang=en
LOCATION:Kühlhaus Görlitz\, Am Bahnhof Weinhübel 2\, Görlitz\, 02827\, Germany
ATTACH;FMTTYPE=image/jpeg:https://kuehlhaus-goerlitz.de/wp-content/uploads/2021/04/banner.jpg
ORGANIZER;CN="K%C3%BChlhaus G%C3%B6rlitz":MAILTO:kontakt@kuehlhaus-goerlitz.de
END:VEVENT
END:VCALENDAR