BEGIN:VCALENDAR
VERSION:2.0
PRODID:-//KÜHLHAUS GÖRLITZ - ECPv6.15.19//NONSGML v1.0//EN
CALSCALE:GREGORIAN
METHOD:PUBLISH
X-WR-CALNAME:KÜHLHAUS GÖRLITZ
X-ORIGINAL-URL:https://kuehlhaus-goerlitz.de/?lang=en
X-WR-CALDESC:Events for KÜHLHAUS GÖRLITZ
REFRESH-INTERVAL;VALUE=DURATION:PT1H
X-Robots-Tag:noindex
X-PUBLISHED-TTL:PT1H
BEGIN:VTIMEZONE
TZID:UTC
BEGIN:STANDARD
TZOFFSETFROM:+0000
TZOFFSETTO:+0000
TZNAME:UTC
DTSTART:20200101T000000
END:STANDARD
END:VTIMEZONE
BEGIN:VEVENT
DTSTART;TZID=UTC:20211031T160000
DTEND;TZID=UTC:20211031T183000
DTSTAMP:20260426T022432
CREATED:20210709T141137Z
LAST-MODIFIED:20210709T141137Z
UID:20011-1635696000-1635705000@kuehlhaus-goerlitz.de
SUMMARY:Paula & Karol
DESCRIPTION:Infos folgen… \nPaula & Karol tauchten vor einigen Jahren auf den polnischen Folkpopbühnen auf und eroberten das Land. Paula\, polnisch-kanadische Soziologin\, traf Karol\, den Warschauer Musiker. Gemeinsam begannen sie Musik auf Englisch zu schreiben\, Konzerte an Straßenecken und in Hinterhöfen zu spielen. Schnell wurden sie zu Pionieren der nun immer schneller wachsenden Indiepopszene Polens. Über die Jahre versammelten sie um sich die wundervolle Mischung an Warschauer Musikern\, die sie als Band auf hunderten Shows begleiteten\, in Polen aber auch immer öfter im Ausland. Ihre Alben produzieren sie mal gemeinsam in ihren Wohnzimmern\, mal mit dem Grammy nominierten Producer Ryan Hadlock. Im Sound spiegelt sich ihre Attitüde wieder: DIY und doch Detailverliebtheit\, herzerwärmende Texte und Melodien mit Ohrwurm- potenzial balancierend an der Grenze zwischen Pop\, Folk\, und Punk. Ihre Liveshows machten die Band bald bekannt\, warm und emotional\, grenzwandelnd am Psychedelischem singen sie über das Leben ihrer Generation\, ihre Songs so persönlich wie eben nur möglich.
URL:https://kuehlhaus-goerlitz.de/event/paula-karol/?lang=en
LOCATION:Kühlhaus Görlitz\, Am Bahnhof Weinhübel 2\, Görlitz\, 02827\, Germany
ATTACH;FMTTYPE=image/jpeg:https://kuehlhaus-goerlitz.de/wp-content/uploads/2021/07/Paula__Karol_Pressefoto_Dynamite_Platten-1.jpg
ORGANIZER;CN="K%C3%BChlhaus G%C3%B6rlitz":MAILTO:kontakt@kuehlhaus-goerlitz.de
END:VEVENT
END:VCALENDAR