BEGIN:VCALENDAR
VERSION:2.0
PRODID:-//KÜHLHAUS GÖRLITZ - ECPv6.15.19//NONSGML v1.0//EN
CALSCALE:GREGORIAN
METHOD:PUBLISH
X-ORIGINAL-URL:https://kuehlhaus-goerlitz.de/?lang=en
X-WR-CALDESC:Events for KÜHLHAUS GÖRLITZ
REFRESH-INTERVAL;VALUE=DURATION:PT1H
X-Robots-Tag:noindex
X-PUBLISHED-TTL:PT1H
BEGIN:VTIMEZONE
TZID:UTC
BEGIN:STANDARD
TZOFFSETFROM:+0000
TZOFFSETTO:+0000
TZNAME:UTC
DTSTART:20210101T000000
END:STANDARD
END:VTIMEZONE
BEGIN:VEVENT
DTSTART;TZID=UTC:20220727T160000
DTEND;TZID=UTC:20220731T170000
DTSTAMP:20260423T192756
CREATED:20200122T145718Z
LAST-MODIFIED:20220725T181030Z
UID:19080-1658937600-1659286800@kuehlhaus-goerlitz.de
SUMMARY:Skizzentage Görlitz
DESCRIPTION:
URL:https://kuehlhaus-goerlitz.de/event/skizzentage-goerlitz/?lang=en
LOCATION:Kühlhaus Görlitz\, Am Bahnhof Weinhübel 2\, Görlitz\, 02827\, Germany
ATTACH;FMTTYPE=image/jpeg:https://kuehlhaus-goerlitz.de/wp-content/uploads/2022/03/skizzentage.jpg
ORGANIZER;CN="K%C3%BChlhaus G%C3%B6rlitz":MAILTO:kontakt@kuehlhaus-goerlitz.de
END:VEVENT
END:VCALENDAR