BEGIN:VCALENDAR
VERSION:2.0
PRODID:-//KÜHLHAUS GÖRLITZ - ECPv6.15.19//NONSGML v1.0//EN
CALSCALE:GREGORIAN
METHOD:PUBLISH
X-WR-CALNAME:KÜHLHAUS GÖRLITZ
X-ORIGINAL-URL:https://kuehlhaus-goerlitz.de/?lang=en
X-WR-CALDESC:Events for KÜHLHAUS GÖRLITZ
REFRESH-INTERVAL;VALUE=DURATION:PT1H
X-Robots-Tag:noindex
X-PUBLISHED-TTL:PT1H
BEGIN:VTIMEZONE
TZID:UTC
BEGIN:STANDARD
TZOFFSETFROM:+0000
TZOFFSETTO:+0000
TZNAME:UTC
DTSTART:20200101T000000
END:STANDARD
END:VTIMEZONE
BEGIN:VEVENT
DTSTART;TZID=UTC:20210822T150000
DTEND;TZID=UTC:20210822T210000
DTSTAMP:20260426T035321
CREATED:20210701T101936Z
LAST-MODIFIED:20210822T092212Z
UID:20015-1629644400-1629666000@kuehlhaus-goerlitz.de
SUMMARY:WIRD VERSCHOBEN: Einfach Musik von Freunden I #05
DESCRIPTION:ACHTUNG: Wird wegen schlechtem Wetter auf den 29. August verschoben! \nWir versüßen euch musikalisch den Nachmittag und frühen Abend dazu gibt’s kühle Getränke an der Bar und hoffentlich viel Sonne. \nEintritt frei\, Kulturbeitrag an der Bar \nDiesmal mit dabei:\nTom Sky\nJaymon\nWossy \nEin paar Hinweise noch vorab:\n\n\nBitte beachtet die allgemeinen Hygieneregeln (allgemein gilt die Sächsische Corona-Schutzverordnung)\nauf dem Außengelände besteht keine Maskenpflicht und keine Testpflicht. In den Innenräumen (Toilette) bitten wir darum einen Mund- und Nasenschutz zu tragen.\nBitte bleibt unbedingt zuhause\, wenn ihr irgendwelche Krankheitssymptome verspürt. Personen\, mit einem wissentlichen Kontakt zu Personen\, die an SARS Cov 2 erkrankt sind\, ist der Eintritt zum Gelände untersagt
URL:https://kuehlhaus-goerlitz.de/event/einfach-musik-von-freunden-i-05/?lang=en
LOCATION:Kühlhaus Görlitz\, Am Bahnhof Weinhübel 2\, Görlitz\, 02827\, Germany
ATTACH;FMTTYPE=image/jpeg:https://kuehlhaus-goerlitz.de/wp-content/uploads/2021/07/fb_einfach_musik10.jpg
ORGANIZER;CN="K%C3%BChlhaus G%C3%B6rlitz":MAILTO:kontakt@kuehlhaus-goerlitz.de
END:VEVENT
END:VCALENDAR